Package: pRolocGUI Version: 2.19.0 Command: /home/biocbuild/R/R/bin/R CMD build --keep-empty-dirs --no-resave-data pRolocGUI StartedAt: 2025-10-03 02:18:44 -0000 (Fri, 03 Oct 2025) EndedAt: 2025-10-03 02:20:19 -0000 (Fri, 03 Oct 2025) EllapsedTime: 95.0 seconds RetCode: 0 Status: OK PackageFile: pRolocGUI_2.19.0.tar.gz PackageFileSize: 3.054 MiB