Package: pRolocGUI Version: 2.21.0 Command: /home/biocbuild/bbs-3.23-bioc/R/bin/R CMD INSTALL pRolocGUI StartedAt: 2025-11-20 15:38:25 -0500 (Thu, 20 Nov 2025) EndedAt: 2025-11-20 15:39:18 -0500 (Thu, 20 Nov 2025) EllapsedTime: 53.0 seconds RetCode: 0 Status: OK