Package: pRolocGUI Version: 2.21.0 Command: /home/biocbuild/bbs-3.23-bioc/R/bin/R CMD check --install=check:pRolocGUI.install-out.txt --library=/home/biocbuild/bbs-3.23-bioc/R/site-library --timings pRolocGUI_2.21.0.tar.gz StartedAt: 2025-11-21 02:49:45 -0500 (Fri, 21 Nov 2025) EndedAt: 2025-11-21 02:56:35 -0500 (Fri, 21 Nov 2025) EllapsedTime: 409.6 seconds RetCode: 0 Status: OK CheckDir: pRolocGUI.Rcheck Warnings: 0