Package: pRolocGUI Version: 2.21.0 Command: /home/biocbuild/bbs-3.23-bioc/R/bin/R CMD build --keep-empty-dirs --no-resave-data pRolocGUI StartedAt: 2025-11-20 19:22:45 -0500 (Thu, 20 Nov 2025) EndedAt: 2025-11-20 19:23:58 -0500 (Thu, 20 Nov 2025) EllapsedTime: 73.1 seconds RetCode: 0 Status: OK PackageFile: pRolocGUI_2.21.0.tar.gz PackageFileSize: 2.991 MiB