Package: pRoloc Version: 1.49.1 Command: /home/biocbuild/R/R/bin/R CMD INSTALL pRoloc StartedAt: 2025-10-02 21:03:44 -0000 (Thu, 02 Oct 2025) EndedAt: 2025-10-02 21:05:33 -0000 (Thu, 02 Oct 2025) EllapsedTime: 108.6 seconds RetCode: 0 Status: OK