Package: pRoloc Version: 1.49.1 Command: /home/biocbuild/R/R/bin/R CMD build --keep-empty-dirs --no-resave-data pRoloc StartedAt: 2025-10-03 02:18:38 -0000 (Fri, 03 Oct 2025) EndedAt: 2025-10-03 02:24:14 -0000 (Fri, 03 Oct 2025) EllapsedTime: 335.1 seconds RetCode: 0 Status: OK PackageFile: pRoloc_1.49.1.tar.gz PackageFileSize: 7.59 MiB