Package: pRoloc Version: 1.51.0 Command: /home/biocbuild/bbs-3.23-bioc/R/bin/R CMD INSTALL pRoloc StartedAt: 2025-11-20 15:36:58 -0500 (Thu, 20 Nov 2025) EndedAt: 2025-11-20 15:38:21 -0500 (Thu, 20 Nov 2025) EllapsedTime: 83.1 seconds RetCode: 0 Status: OK