Package: pRoloc Version: 1.51.0 Command: /home/biocbuild/bbs-3.23-bioc/R/bin/R CMD check --install=check:pRoloc.install-out.txt --library=/home/biocbuild/bbs-3.23-bioc/R/site-library --timings pRoloc_1.51.0.tar.gz StartedAt: 2025-11-21 02:49:37 -0500 (Fri, 21 Nov 2025) EndedAt: 2025-11-21 03:03:02 -0500 (Fri, 21 Nov 2025) EllapsedTime: 805.2 seconds RetCode: 0 Status: WARNINGS CheckDir: pRoloc.Rcheck Warnings: 3