Package: orthos Version: 1.7.4 Command: /Library/Frameworks/R.framework/Resources/bin/R CMD INSTALL orthos StartedAt: 2025-10-09 15:18:11 -0400 (Thu, 09 Oct 2025) EndedAt: 2025-10-09 15:18:21 -0400 (Thu, 09 Oct 2025) EllapsedTime: 10.2 seconds RetCode: 0 Status: OK