Package: orthos Version: 1.7.4 Command: rm -rf orthos.buildbin-libdir && mkdir orthos.buildbin-libdir && /Users/biocbuild/BBS/utils/build-universal.sh orthos_1.7.4.tar.gz /Library/Frameworks/R.framework/Resources/bin/R orthos.buildbin-libdir StartedAt: 2025-10-10 22:51:21 -0400 (Fri, 10 Oct 2025) EndedAt: 2025-10-10 22:51:33 -0400 (Fri, 10 Oct 2025) EllapsedTime: 12.2 seconds RetCode: 0 Status: OK PackageFile: orthos_1.7.4.tgz PackageFileSize: 2.833 MiB