Package: orthogene Version: 1.15.02 Command: /Library/Frameworks/R.framework/Resources/bin/R CMD INSTALL orthogene StartedAt: 2025-10-15 15:09:28 -0400 (Wed, 15 Oct 2025) EndedAt: 2025-10-15 15:09:33 -0400 (Wed, 15 Oct 2025) EllapsedTime: 5.3 seconds RetCode: 0 Status: OK