Package: orthogene Version: 1.15.02 Command: /Library/Frameworks/R.framework/Resources/bin/R CMD build --keep-empty-dirs --no-resave-data orthogene StartedAt: 2025-10-16 17:28:41 -0400 (Thu, 16 Oct 2025) EndedAt: 2025-10-16 17:28:57 -0400 (Thu, 16 Oct 2025) EllapsedTime: 16.2 seconds RetCode: 0 Status: OK PackageFile: orthogene_1.15.02.tar.gz PackageFileSize: 2.65 MiB