Package: orthogene Version: 1.15.02 Command: rm -rf orthogene.buildbin-libdir && mkdir orthogene.buildbin-libdir && /Users/biocbuild/BBS/utils/build-universal.sh orthogene_1.15.02.tar.gz /Library/Frameworks/R.framework/Resources/bin/R orthogene.buildbin-libdir StartedAt: 2025-10-16 23:11:28 -0400 (Thu, 16 Oct 2025) EndedAt: 2025-10-16 23:11:33 -0400 (Thu, 16 Oct 2025) EllapsedTime: 5.1 seconds RetCode: 0 Status: OK PackageFile: orthogene_1.15.02.tgz PackageFileSize: 2.846 MiB