Package: optimalFlow Version: 1.21.0 Command: /home/biocbuild/R/R/bin/R CMD INSTALL optimalFlow StartedAt: 2025-09-29 20:45:57 -0000 (Mon, 29 Sep 2025) EndedAt: 2025-09-29 20:46:19 -0000 (Mon, 29 Sep 2025) EllapsedTime: 22.1 seconds RetCode: 0 Status: OK