Package: optimalFlow Version: 1.21.0 Command: /home/biocbuild/R/R/bin/R CMD build --keep-empty-dirs --no-resave-data optimalFlow StartedAt: 2025-09-30 02:02:00 -0000 (Tue, 30 Sep 2025) EndedAt: 2025-09-30 02:09:19 -0000 (Tue, 30 Sep 2025) EllapsedTime: 439.5 seconds RetCode: 0 Status: OK PackageFile: optimalFlow_1.21.0.tar.gz PackageFileSize: 1.049 MiB