Package: optimalFlow Version: 1.23.0 Command: /home/biocbuild/bbs-3.23-bioc/R/bin/R CMD INSTALL optimalFlow StartedAt: 2025-11-20 15:13:19 -0500 (Thu, 20 Nov 2025) EndedAt: 2025-11-20 15:13:35 -0500 (Thu, 20 Nov 2025) EllapsedTime: 16.4 seconds RetCode: 0 Status: OK