Package: optimalFlow Version: 1.21.0 Maintainer: Hristo Inouzhe MaintainerEmail: hristo.inouzhe at gmail.com git_url: https://git.bioconductor.org/packages/optimalFlow git_branch: devel git_last_commit: a755797 git_last_commit_date: 2025-04-15 11:58:40 -0400 (Tue, 15 Apr 2025)