Package: oppti Version: 1.23.1 Command: /home/biocbuild/bbs-3.22-bioc/R/bin/R CMD INSTALL oppti StartedAt: 2025-10-17 15:10:48 -0400 (Fri, 17 Oct 2025) EndedAt: 2025-10-17 15:10:58 -0400 (Fri, 17 Oct 2025) EllapsedTime: 9.2 seconds RetCode: 0 Status: OK