Package: oppar Version: 1.37.0 Command: /home/biocbuild/bbs-3.22-bioc/R/bin/R CMD INSTALL oppar StartedAt: 2025-10-05 15:54:32 -0400 (Sun, 05 Oct 2025) EndedAt: 2025-10-05 15:55:08 -0400 (Sun, 05 Oct 2025) EllapsedTime: 36.8 seconds RetCode: 0 Status: OK