Package: oppar Version: 1.37.0 Command: /home/biocbuild/bbs-3.22-bioc/R/bin/R CMD build --keep-empty-dirs --no-resave-data --md5 oppar StartedAt: 2025-10-06 19:06:42 -0400 (Mon, 06 Oct 2025) EndedAt: 2025-10-06 19:07:52 -0400 (Mon, 06 Oct 2025) EllapsedTime: 69.1 seconds RetCode: 0 Status: OK PackageFile: oppar_1.37.0.tar.gz PackageFileSize: 3.394 MiB