Package: oposSOM Version: 2.29.0 Command: /home/biocbuild/bbs-3.23-bioc/R/bin/R CMD INSTALL oposSOM StartedAt: 2025-11-11 15:30:23 -0500 (Tue, 11 Nov 2025) EndedAt: 2025-11-11 15:30:56 -0500 (Tue, 11 Nov 2025) EllapsedTime: 33.0 seconds RetCode: 0 Status: OK