Package: oposSOM Version: 2.27.0 Command: /Library/Frameworks/R.framework/Resources/bin/R CMD build --keep-empty-dirs --no-resave-data oposSOM StartedAt: 2025-10-14 18:29:42 -0400 (Tue, 14 Oct 2025) EndedAt: 2025-10-14 18:30:45 -0400 (Tue, 14 Oct 2025) EllapsedTime: 63.0 seconds RetCode: 0 Status: OK PackageFile: oposSOM_2.27.0.tar.gz PackageFileSize: 13.35 MiB