Package: oposSOM Version: 2.27.0 Command: rm -rf oposSOM.buildbin-libdir && mkdir oposSOM.buildbin-libdir && /Users/biocbuild/BBS/utils/build-universal.sh oposSOM_2.27.0.tar.gz /Library/Frameworks/R.framework/Resources/bin/R oposSOM.buildbin-libdir StartedAt: 2025-10-15 02:58:45 -0400 (Wed, 15 Oct 2025) EndedAt: 2025-10-15 02:59:38 -0400 (Wed, 15 Oct 2025) EllapsedTime: 53.2 seconds RetCode: 0 Status: OK PackageFile: oposSOM_2.27.0.tgz PackageFileSize: 13.58 MiB