Package: oposSOM Version: 2.27.0 Command: /Library/Frameworks/R.framework/Resources/bin/R CMD INSTALL oposSOM StartedAt: 2025-09-30 15:09:19 -0400 (Tue, 30 Sep 2025) EndedAt: 2025-09-30 15:09:31 -0400 (Tue, 30 Sep 2025) EllapsedTime: 12.9 seconds RetCode: 0 Status: OK