Package: oposSOM Version: 2.29.0 Maintainer: Henry Loeffler-Wirth MaintainerEmail: wirth at izbi.uni-leipzig.de git_url: https://git.bioconductor.org/packages/oposSOM git_branch: devel git_last_commit: 5c4952e git_last_commit_date: 2025-10-29 10:20:10 -0400 (Wed, 29 Oct 2025)