Package: openPrimeR Version: 1.31.1 Command: /home/biocbuild/R/R/bin/R CMD INSTALL openPrimeR StartedAt: 2025-10-09 21:58:54 -0000 (Thu, 09 Oct 2025) EndedAt: 2025-10-09 21:59:34 -0000 (Thu, 09 Oct 2025) EllapsedTime: 39.4 seconds RetCode: 0 Status: OK