Package: openPrimeR Version: 1.31.1 Command: /home/biocbuild/R/R/bin/R CMD build --keep-empty-dirs --no-resave-data openPrimeR StartedAt: 2025-10-10 02:44:41 -0000 (Fri, 10 Oct 2025) EndedAt: 2025-10-10 02:46:18 -0000 (Fri, 10 Oct 2025) EllapsedTime: 97.1 seconds RetCode: 0 Status: OK PackageFile: openPrimeR_1.31.1.tar.gz PackageFileSize: 1.877 MiB