Package: openPrimeR Version: 1.31.1 Command: /home/biocbuild/bbs-3.22-bioc/R/bin/R CMD check --install=check:openPrimeR.install-out.txt --library=/home/biocbuild/bbs-3.22-bioc/R/site-library --timings openPrimeR_1.31.1.tar.gz StartedAt: 2025-10-13 02:32:00 -0400 (Mon, 13 Oct 2025) EndedAt: 2025-10-13 02:36:42 -0400 (Mon, 13 Oct 2025) EllapsedTime: 282.3 seconds RetCode: 0 Status: OK CheckDir: openPrimeR.Rcheck Warnings: 0