Package: openPrimeR Version: 1.33.0 Command: /home/biocbuild/bbs-3.23-bioc/R/bin/R CMD INSTALL openPrimeR StartedAt: 2025-11-06 15:49:52 -0500 (Thu, 06 Nov 2025) EndedAt: 2025-11-06 15:50:20 -0500 (Thu, 06 Nov 2025) EllapsedTime: 28.8 seconds RetCode: 0 Status: OK