Package: openPrimeR Version: 1.33.0 Command: /home/biocbuild/bbs-3.23-bioc/R/bin/R CMD check --install=check:openPrimeR.install-out.txt --library=/home/biocbuild/bbs-3.23-bioc/R/site-library --timings openPrimeR_1.33.0.tar.gz StartedAt: 2025-11-19 03:04:00 -0500 (Wed, 19 Nov 2025) EndedAt: 2025-11-19 03:08:43 -0500 (Wed, 19 Nov 2025) EllapsedTime: 283.4 seconds RetCode: 0 Status: OK CheckDir: openPrimeR.Rcheck Warnings: 0