Package: openPrimeR Version: 1.33.0 Command: /home/biocbuild/bbs-3.23-bioc/R/bin/R CMD build --keep-empty-dirs --no-resave-data openPrimeR StartedAt: 2025-11-06 19:00:46 -0500 (Thu, 06 Nov 2025) EndedAt: 2025-11-06 19:01:50 -0500 (Thu, 06 Nov 2025) EllapsedTime: 64.1 seconds RetCode: 0 Status: OK PackageFile: openPrimeR_1.33.0.tar.gz PackageFileSize: 2.14 MiB