Package: openPrimeR Version: 1.31.1 Maintainer: Matthias Döring MaintainerEmail: matthias-doering at gmx.de git_url: https://git.bioconductor.org/packages/openPrimeR git_branch: devel git_last_commit: 8e59976 git_last_commit_date: 2025-07-12 05:57:47 -0400 (Sat, 12 Jul 2025)