Package: openCyto Version: 2.23.0 Command: /home/biocbuild/bbs-3.23-bioc/R/bin/R CMD INSTALL openCyto StartedAt: 2025-11-20 15:18:14 -0500 (Thu, 20 Nov 2025) EndedAt: 2025-11-20 15:18:44 -0500 (Thu, 20 Nov 2025) EllapsedTime: 30.1 seconds RetCode: 0 Status: OK