Package: openCyto Version: 2.21.1 Command: /Library/Frameworks/R.framework/Resources/bin/R CMD INSTALL openCyto StartedAt: 2025-10-07 15:25:07 -0400 (Tue, 07 Oct 2025) EndedAt: 2025-10-07 15:25:49 -0400 (Tue, 07 Oct 2025) EllapsedTime: 42.4 seconds RetCode: 0 Status: OK