Package: openCyto Version: 2.21.1 Command: /Library/Frameworks/R.framework/Resources/bin/R CMD build --keep-empty-dirs --no-resave-data openCyto StartedAt: 2025-10-07 18:20:10 -0400 (Tue, 07 Oct 2025) EndedAt: 2025-10-07 18:22:04 -0400 (Tue, 07 Oct 2025) EllapsedTime: 114.6 seconds RetCode: 0 Status: OK PackageFile: openCyto_2.21.1.tar.gz PackageFileSize: 2.466 MiB