Package: openCyto Version: 2.21.1 Command: rm -rf openCyto.buildbin-libdir && mkdir openCyto.buildbin-libdir && /Users/biocbuild/BBS/utils/build-universal.sh openCyto_2.21.1.tar.gz /Library/Frameworks/R.framework/Resources/bin/R openCyto.buildbin-libdir StartedAt: 2025-10-07 02:24:36 -0400 (Tue, 07 Oct 2025) EndedAt: 2025-10-07 02:25:21 -0400 (Tue, 07 Oct 2025) EllapsedTime: 45.2 seconds RetCode: 0 Status: OK PackageFile: openCyto_2.21.1.tgz PackageFileSize: 2.728 MiB