Package: openCyto Version: 2.21.1 Maintainer: Mike Jiang MaintainerEmail: mike at ozette.com git_url: https://git.bioconductor.org/packages/openCyto git_branch: devel git_last_commit: 8bdcade git_last_commit_date: 2025-08-25 20:02:07 -0400 (Mon, 25 Aug 2025)