Package: ontoProc Version: 2.5.0 Command: /home/biocbuild/bbs-3.23-bioc/R/bin/R CMD INSTALL ontoProc StartedAt: 2025-11-04 15:34:16 -0500 (Tue, 04 Nov 2025) EndedAt: 2025-11-04 15:34:50 -0500 (Tue, 04 Nov 2025) EllapsedTime: 34.5 seconds RetCode: 0 Status: OK