Package: ontoProc Version: 2.5.0 Command: /home/biocbuild/bbs-3.23-bioc/R/bin/R CMD build --keep-empty-dirs --no-resave-data ontoProc StartedAt: 2025-11-04 19:00:36 -0500 (Tue, 04 Nov 2025) EndedAt: 2025-11-04 19:08:02 -0500 (Tue, 04 Nov 2025) EllapsedTime: 446.6 seconds RetCode: 0 Status: OK PackageFile: ontoProc_2.5.0.tar.gz PackageFileSize: 13.76 MiB