Package: ontoProc Version: 2.3.9 Command: /Library/Frameworks/R.framework/Resources/bin/R CMD INSTALL ontoProc StartedAt: 2025-10-06 15:32:40 -0400 (Mon, 06 Oct 2025) EndedAt: 2025-10-06 15:33:26 -0400 (Mon, 06 Oct 2025) EllapsedTime: 45.9 seconds RetCode: 0 Status: OK