Package: ontoProc Version: 2.3.9 Command: /Library/Frameworks/R.framework/Resources/bin/R CMD build --keep-empty-dirs --no-resave-data ontoProc StartedAt: 2025-10-05 18:15:55 -0400 (Sun, 05 Oct 2025) EndedAt: 2025-10-05 18:20:10 -0400 (Sun, 05 Oct 2025) EllapsedTime: 255.0 seconds RetCode: 1 Status: ERROR PackageFile: None PackageFileSize: NA