Package: ontoProc Version: 2.3.9 Command: rm -rf ontoProc.buildbin-libdir && mkdir ontoProc.buildbin-libdir && /Users/biocbuild/BBS/utils/build-universal.sh ontoProc_2.3.9.tar.gz /Library/Frameworks/R.framework/Resources/bin/R ontoProc.buildbin-libdir StartedAt: 2025-09-05 01:17:47 -0400 (Fri, 05 Sep 2025) EndedAt: 2025-09-05 01:18:36 -0400 (Fri, 05 Sep 2025) EllapsedTime: 49.8 seconds RetCode: 0 Status: OK PackageFile: ontoProc_2.3.9.tgz PackageFileSize: 11.05 MiB