Package: ontoProc Version: 2.3.11 Command: /Library/Frameworks/R.framework/Resources/bin/R CMD INSTALL ontoProc StartedAt: 2025-10-13 15:20:14 -0400 (Mon, 13 Oct 2025) EndedAt: 2025-10-13 15:20:28 -0400 (Mon, 13 Oct 2025) EllapsedTime: 13.5 seconds RetCode: 0 Status: OK