Package: ontoProc Version: 2.3.11 Command: /Library/Frameworks/R.framework/Resources/bin/R CMD build --keep-empty-dirs --no-resave-data ontoProc StartedAt: 2025-10-13 17:15:52 -0400 (Mon, 13 Oct 2025) EndedAt: 2025-10-13 17:18:34 -0400 (Mon, 13 Oct 2025) EllapsedTime: 161.7 seconds RetCode: 0 Status: OK PackageFile: ontoProc_2.3.11.tar.gz PackageFileSize: 13.12 MiB