Package: ontoProc Version: 2.3.11 Command: rm -rf ontoProc.buildbin-libdir && mkdir ontoProc.buildbin-libdir && /Users/biocbuild/BBS/utils/build-universal.sh ontoProc_2.3.11.tar.gz /Library/Frameworks/R.framework/Resources/bin/R ontoProc.buildbin-libdir StartedAt: 2025-10-13 22:52:22 -0400 (Mon, 13 Oct 2025) EndedAt: 2025-10-13 22:52:37 -0400 (Mon, 13 Oct 2025) EllapsedTime: 15.3 seconds RetCode: 0 Status: OK PackageFile: ontoProc_2.3.11.tgz PackageFileSize: 11.06 MiB