Package: ontoProc Version: 2.3.11 Maintainer: Vincent Carey MaintainerEmail: stvjc at channing.harvard.edu git_url: https://git.bioconductor.org/packages/ontoProc git_branch: devel git_last_commit: 8aa7338 git_last_commit_date: 2025-10-08 11:44:19 -0400 (Wed, 08 Oct 2025)