Package: onlineFDR Version: 2.19.0 Command: /home/biocbuild/bbs-3.23-bioc/R/bin/R CMD INSTALL onlineFDR StartedAt: 2025-11-02 15:09:04 -0500 (Sun, 02 Nov 2025) EndedAt: 2025-11-02 15:10:04 -0500 (Sun, 02 Nov 2025) EllapsedTime: 60.2 seconds RetCode: 0 Status: OK