Package: onlineFDR Version: 2.19.0 Command: /home/biocbuild/bbs-3.23-bioc/R/bin/R CMD build --keep-empty-dirs --no-resave-data onlineFDR StartedAt: 2025-11-02 19:01:01 -0500 (Sun, 02 Nov 2025) EndedAt: 2025-11-02 19:01:53 -0500 (Sun, 02 Nov 2025) EllapsedTime: 52.1 seconds RetCode: 0 Status: OK PackageFile: onlineFDR_2.19.0.tar.gz PackageFileSize: 1.919 MiB