Package: onlineFDR Version: 2.17.0 Command: /Library/Frameworks/R.framework/Resources/bin/R CMD INSTALL onlineFDR StartedAt: 2025-10-05 15:05:22 -0400 (Sun, 05 Oct 2025) EndedAt: 2025-10-05 15:06:01 -0400 (Sun, 05 Oct 2025) EllapsedTime: 39.6 seconds RetCode: 0 Status: OK