Package: onlineFDR Version: 2.17.0 Command: rm -rf onlineFDR.buildbin-libdir && mkdir onlineFDR.buildbin-libdir && /Users/biocbuild/BBS/utils/build-universal.sh onlineFDR_2.17.0.tar.gz /Library/Frameworks/R.framework/Resources/bin/R onlineFDR.buildbin-libdir StartedAt: 2025-10-04 02:19:47 -0400 (Sat, 04 Oct 2025) EndedAt: 2025-10-04 02:20:39 -0400 (Sat, 04 Oct 2025) EllapsedTime: 52.0 seconds RetCode: 0 Status: OK PackageFile: onlineFDR_2.17.0.tgz PackageFileSize: 1.255 MiB